BEGIN:VCALENDAR
VERSION:2.0
PRODID:icalendar-ruby
CALSCALE:GREGORIAN
BEGIN:VEVENT
DTSTAMP:20181218T032333Z
UID:ff8ea1e9-0408-4942-bec7-387a4d5bb557
DTSTART;TZID=Pacific/Auckland:20181216T134500
DTEND;TZID=Pacific/Auckland:20181216T143000
DESCRIPTION:Property ID# 441188
SUMMARY:Openhome for 3 Weston Avenue
END:VEVENT
END:VCALENDAR
