BEGIN:VCALENDAR
VERSION:2.0
PRODID:icalendar-ruby
CALSCALE:GREGORIAN
BEGIN:VEVENT
DTSTAMP:20181218T032332Z
UID:7e51b944-1b07-41b5-b3a9-6ecdd32cd9c8
DTSTART;TZID=Pacific/Auckland:20181216T153000
DTEND;TZID=Pacific/Auckland:20181216T160000
DESCRIPTION:Property ID# 441530
SUMMARY:Openhome for 17 Shelby Lane
END:VEVENT
END:VCALENDAR
