BEGIN:VCALENDAR
VERSION:2.0
PRODID:icalendar-ruby
CALSCALE:GREGORIAN
BEGIN:VEVENT
DTSTAMP:20181218T032324Z
UID:c81328c6-6085-447a-b9e2-269dcdd163fc
DTSTART;TZID=Pacific/Auckland:20181216T124500
DTEND;TZID=Pacific/Auckland:20181216T131500
DESCRIPTION:Property ID# 441189
SUMMARY:Openhome for 8b White road
END:VEVENT
END:VCALENDAR
