BEGIN:VCALENDAR
VERSION:2.0
PRODID:icalendar-ruby
CALSCALE:GREGORIAN
BEGIN:VEVENT
DTSTAMP:20181218T032237Z
UID:1ff205d4-3874-4d13-a603-d8a4fd3cb44d
DTSTART;TZID=Pacific/Auckland:20190112T133000
DTEND;TZID=Pacific/Auckland:20190112T140000
DESCRIPTION:Property ID# 441753
SUMMARY:Openhome for 76 Crestview Place
END:VEVENT
END:VCALENDAR
