BEGIN:VCALENDAR
VERSION:2.0
PRODID:icalendar-ruby
CALSCALE:GREGORIAN
BEGIN:VEVENT
DTSTAMP:20260419T231416Z
UID:eb7d4f40-aedc-40e5-81f8-4fd5e71f2363
DTSTART;VALUE=DATE:20190825
DESCRIPTION:Property ID# 458755\, Locatoin: On site\, Time: 12:00PM
SUMMARY:Auction for 
END:VEVENT
END:VCALENDAR
