BEGIN:VCALENDAR
VERSION:2.0
PRODID:icalendar-ruby
CALSCALE:GREGORIAN
BEGIN:VEVENT
DTSTAMP:20260425T033006Z
UID:e20f581c-39cf-4c1a-abc4-6965ca7b64fc
DTSTART;VALUE=DATE:20190911
DESCRIPTION:Property ID# 459969\, Time: 12:00PM
SUMMARY:Auction for 
END:VEVENT
END:VCALENDAR
