BEGIN:VCALENDAR
VERSION:2.0
PRODID:icalendar-ruby
CALSCALE:GREGORIAN
BEGIN:VEVENT
DTSTAMP:20260419T233312Z
UID:7f435ed9-d38b-4ddc-9ccb-6c9b68e72206
DTSTART;VALUE=DATE:20191013
DESCRIPTION:Property ID# 462063\, Locatoin: On site\, Time: 4:00PM
SUMMARY:Auction for 
END:VEVENT
END:VCALENDAR
