BEGIN:VCALENDAR
VERSION:2.0
PRODID:icalendar-ruby
CALSCALE:GREGORIAN
BEGIN:VEVENT
DTSTAMP:20260419T231918Z
UID:82907c34-ebb2-473e-8584-2e85e66562c3
DTSTART;VALUE=DATE:20191019
DESCRIPTION:Property ID# 463155\, Locatoin: On site\, Time: 12:00PM
SUMMARY:Auction for 
END:VEVENT
END:VCALENDAR
