BEGIN:VCALENDAR
VERSION:2.0
PRODID:icalendar-ruby
CALSCALE:GREGORIAN
BEGIN:VEVENT
DTSTAMP:20260425T033011Z
UID:043b3bbd-3869-4a3b-bf95-270af1f8633e
DTSTART;VALUE=DATE:20191022
DESCRIPTION:Property ID# 463561\, Locatoin: Deadline Treaty  4:00pm  22 Oct
 ober 2019 - Unless sold prior\, Time: 12:00PM
SUMMARY:Auction for 
END:VEVENT
END:VCALENDAR
