BEGIN:VCALENDAR
VERSION:2.0
PRODID:icalendar-ruby
CALSCALE:GREGORIAN
BEGIN:VEVENT
DTSTAMP:20260423T133114Z
UID:a5ae8e95-86fd-4d60-9443-b94d5b413a53
DTSTART;VALUE=DATE:20191215
DESCRIPTION:Property ID# 468595\, Time: 12:00PM
SUMMARY:Auction for 
END:VEVENT
END:VCALENDAR
