BEGIN:VCALENDAR
VERSION:2.0
PRODID:icalendar-ruby
CALSCALE:GREGORIAN
BEGIN:VEVENT
DTSTAMP:20260419T231706Z
UID:5eb3d8d7-9c96-4633-b7ea-6c96ead3f205
DTSTART;VALUE=DATE:20200531
DESCRIPTION:Property ID# 477675\, Locatoin: On Site\, Time: 5:00PM
SUMMARY:Auction for 
END:VEVENT
END:VCALENDAR
