BEGIN:VCALENDAR
VERSION:2.0
PRODID:icalendar-ruby
CALSCALE:GREGORIAN
BEGIN:VEVENT
DTSTAMP:20260419T232822Z
UID:0434d202-908d-4ff5-bb96-ba47aa2d4bd4
DTSTART;VALUE=DATE:20200530
DESCRIPTION:Property ID# 477677\, Locatoin: On Site\, Time: 5:00PM
SUMMARY:Auction for 
END:VEVENT
END:VCALENDAR
