BEGIN:VCALENDAR
VERSION:2.0
PRODID:icalendar-ruby
CALSCALE:GREGORIAN
BEGIN:VEVENT
DTSTAMP:20260421T193425Z
UID:8edd2638-c3c7-464d-a055-6ce71c9c4fb9
DTSTART;VALUE=DATE:20200716
DESCRIPTION:Property ID# 483165\, Locatoin: In rooms\, Time: 6:30PM
SUMMARY:Auction for 
END:VEVENT
END:VCALENDAR
