BEGIN:VCALENDAR
VERSION:2.0
PRODID:icalendar-ruby
CALSCALE:GREGORIAN
BEGIN:VEVENT
DTSTAMP:20260422T084401Z
UID:c8c6f04c-b4b7-4a94-90ff-cb0f5fbe203e
DTSTART;VALUE=DATE:20200902
DESCRIPTION:Property ID# 484880\, Locatoin: On Site (unless sold prior)\, T
 ime: 5:00PM
SUMMARY:Auction for 
END:VEVENT
END:VCALENDAR
