BEGIN:VCALENDAR
VERSION:2.0
PRODID:icalendar-ruby
CALSCALE:GREGORIAN
BEGIN:VEVENT
DTSTAMP:20260422T115435Z
UID:a8fb22fb-36b0-4202-b88e-8c7062ec77a4
DTSTART;VALUE=DATE:20201021
DESCRIPTION:Property ID# 490492\, Locatoin: 68 Great South Road Pokeno\, RE
 /MAX Stars Office (unless sold prior)\, Time: 5:00PM
SUMMARY:Auction for 
END:VEVENT
END:VCALENDAR
