BEGIN:VCALENDAR
VERSION:2.0
PRODID:icalendar-ruby
CALSCALE:GREGORIAN
BEGIN:VEVENT
DTSTAMP:20260425T032110Z
UID:d382ddb9-9c4f-4cee-933a-a33d64343b69
DTSTART;VALUE=DATE:20210225
DESCRIPTION:Property ID# 500668\, Time: 2:00AM
SUMMARY:Auction for 
END:VEVENT
END:VCALENDAR
