BEGIN:VCALENDAR
VERSION:2.0
PRODID:icalendar-ruby
CALSCALE:GREGORIAN
BEGIN:VEVENT
DTSTAMP:20260425T033027Z
UID:ebd524d5-0564-4ea8-8fdf-b98ebec334ff
DTSTART;VALUE=DATE:20210321
DESCRIPTION:Property ID# 504069\, Time: 2:00PM
SUMMARY:Auction for 
END:VEVENT
END:VCALENDAR
