BEGIN:VCALENDAR
VERSION:2.0
PRODID:icalendar-ruby
CALSCALE:GREGORIAN
BEGIN:VEVENT
DTSTAMP:20260422T101038Z
UID:194b7eb8-652c-46f7-b92b-51e217f1ef57
DTSTART;VALUE=DATE:20210612
DESCRIPTION:Property ID# 509537\, Locatoin: ON SITE\, Time: 3:00PM
SUMMARY:Auction for 
END:VEVENT
END:VCALENDAR
