BEGIN:VCALENDAR
VERSION:2.0
PRODID:icalendar-ruby
CALSCALE:GREGORIAN
BEGIN:VEVENT
DTSTAMP:20260425T030916Z
UID:5867e3c5-8a25-4ec2-a398-051d99bbd805
DTSTART;VALUE=DATE:20211024
DESCRIPTION:Property ID# 517959\, Time: 3:00PM
SUMMARY:Auction for 
END:VEVENT
END:VCALENDAR
