BEGIN:VCALENDAR
VERSION:2.0
PRODID:icalendar-ruby
CALSCALE:GREGORIAN
BEGIN:VEVENT
DTSTAMP:20260422T120413Z
UID:be423db3-2af4-4838-ba32-be84d0c90c9b
DTSTART;VALUE=DATE:20211003
DESCRIPTION:Property ID# 517960\, Time: 3:00PM
SUMMARY:Auction for 
END:VEVENT
END:VCALENDAR
