BEGIN:VCALENDAR
VERSION:2.0
PRODID:icalendar-ruby
CALSCALE:GREGORIAN
BEGIN:VEVENT
DTSTAMP:20260422T115743Z
UID:74923bbf-927f-4082-8fa5-54b7fab7174f
DTSTART;VALUE=DATE:20211104
DESCRIPTION:Property ID# 519363\, Time: 6:30PM
SUMMARY:Auction for 
END:VEVENT
END:VCALENDAR
