BEGIN:VCALENDAR
VERSION:2.0
PRODID:icalendar-ruby
CALSCALE:GREGORIAN
BEGIN:VEVENT
DTSTAMP:20260422T115912Z
UID:5c30ff65-8da7-4390-b496-7108a85b18aa
DTSTART;VALUE=DATE:20211114
DESCRIPTION:Property ID# 520952\, Time: 1:00PM
SUMMARY:Auction for 
END:VEVENT
END:VCALENDAR
