BEGIN:VCALENDAR
VERSION:2.0
PRODID:icalendar-ruby
CALSCALE:GREGORIAN
BEGIN:VEVENT
DTSTAMP:20260423T184029Z
UID:0fed18fe-9b8e-41ca-b675-26fb6dbc256f
DTSTART;VALUE=DATE:20211216
DESCRIPTION:Property ID# 523287\, Locatoin: Live Streaming\, Time: 1:00PM
SUMMARY:Auction for 
END:VEVENT
END:VCALENDAR
