BEGIN:VCALENDAR
VERSION:2.0
PRODID:icalendar-ruby
CALSCALE:GREGORIAN
BEGIN:VEVENT
DTSTAMP:20260425T030014Z
UID:96ecf577-29c3-478e-a988-a0075a5865c5
DTSTART;VALUE=DATE:20220818
DESCRIPTION:Property ID# 540664\, Time: 1:00PM
SUMMARY:Auction for 
END:VEVENT
END:VCALENDAR
