BEGIN:VCALENDAR
VERSION:2.0
PRODID:icalendar-ruby
CALSCALE:GREGORIAN
BEGIN:VEVENT
DTSTAMP:20260425T032904Z
UID:6b2f418f-1347-48df-9b66-d3476544d257
DTSTART;VALUE=DATE:20230706
DESCRIPTION:Property ID# 558448\, Locatoin: On Site\, Time: 1:00PM
SUMMARY:Auction for 
END:VEVENT
END:VCALENDAR
