BEGIN:VCALENDAR
VERSION:2.0
PRODID:icalendar-ruby
CALSCALE:GREGORIAN
BEGIN:VEVENT
DTSTAMP:20260422T195751Z
UID:e1c344e1-1b78-4fdb-938a-b7c48f31b396
DTSTART;VALUE=DATE:20230719
DESCRIPTION:Property ID# 558721\, Time: 2:00PM
SUMMARY:Auction for 
END:VEVENT
END:VCALENDAR
