BEGIN:VCALENDAR
VERSION:2.0
PRODID:icalendar-ruby
CALSCALE:GREGORIAN
BEGIN:VEVENT
DTSTAMP:20260423T123219Z
UID:bec26a7a-d54f-4731-bf64-dd3c11dd128a
DTSTART;VALUE=DATE:20250222
DESCRIPTION:Property ID# 587305\, Time: 10:30AM
SUMMARY:Auction for 
END:VEVENT
END:VCALENDAR
