BEGIN:VCALENDAR
VERSION:2.0
PRODID:icalendar-ruby
CALSCALE:GREGORIAN
BEGIN:VEVENT
DTSTAMP:20260422T194749Z
UID:0163fc65-5d50-4c7f-96db-acaeb74c76fe
DTSTART;VALUE=DATE:20250326
DESCRIPTION:Property ID# 589407\, Time: 12:00PM
SUMMARY:Auction for 
END:VEVENT
END:VCALENDAR
