BEGIN:VCALENDAR
VERSION:2.0
PRODID:icalendar-ruby
CALSCALE:GREGORIAN
BEGIN:VEVENT
DTSTAMP:20260422T195522Z
UID:a2cbbcee-d539-4776-8b5e-ccbe8abac11b
DTSTART;VALUE=DATE:20250402
DESCRIPTION:Property ID# 589408\, Time: 12:00PM
SUMMARY:Auction for 
END:VEVENT
END:VCALENDAR
