BEGIN:VCALENDAR
VERSION:2.0
PRODID:icalendar-ruby
CALSCALE:GREGORIAN
BEGIN:VEVENT
DTSTAMP:20260420T082000Z
UID:d958c383-fb6a-4a47-980e-f747d23741e4
DTSTART;VALUE=DATE:20250514
DESCRIPTION:Property ID# 590161\, Locatoin: 34 Shortland Street\, City\, Ti
 me: 10:00AM
SUMMARY:Auction for 
END:VEVENT
END:VCALENDAR
