BEGIN:VCALENDAR
VERSION:2.0
PRODID:icalendar-ruby
CALSCALE:GREGORIAN
BEGIN:VEVENT
DTSTAMP:20260420T081803Z
UID:b9ece581-b8b8-478b-8445-31b09fdcc73a
DTSTART;VALUE=DATE:20250730
DESCRIPTION:Property ID# 594807\, Locatoin: In Rooms at Ray White Manukau (
 unless sold prior) \, Time: 9:00AM
SUMMARY:Auction for 
END:VEVENT
END:VCALENDAR
