BEGIN:VCALENDAR
VERSION:2.0
PRODID:icalendar-ruby
CALSCALE:GREGORIAN
BEGIN:VEVENT
DTSTAMP:20260419T211934Z
UID:5bc76320-2926-456c-9205-3bffa44a9905
DTSTART;VALUE=DATE:20250912
DESCRIPTION:Property ID# 596466\, Time: 12:00PM
SUMMARY:Auction for 
END:VEVENT
END:VCALENDAR
