BEGIN:VCALENDAR
VERSION:2.0
PRODID:icalendar-ruby
CALSCALE:GREGORIAN
BEGIN:VEVENT
DTSTAMP:20260424T212814Z
UID:3614f7df-bca4-4436-9831-243721fc78a2
DTSTART;VALUE=DATE:20250923
DESCRIPTION:Property ID# 596653\, Time: 12:00PM
SUMMARY:Auction for 
END:VEVENT
END:VCALENDAR
