BEGIN:VCALENDAR
VERSION:2.0
PRODID:icalendar-ruby
CALSCALE:GREGORIAN
BEGIN:VEVENT
DTSTAMP:20260424T211907Z
UID:fb3e819a-0f76-4264-94a6-7440d7e14cf1
DTSTART;VALUE=DATE:20260218
DESCRIPTION:Property ID# 602593\, Time: 12:00PM
SUMMARY:Auction for 
END:VEVENT
END:VCALENDAR
