BEGIN:VCALENDAR
VERSION:2.0
PRODID:icalendar-ruby
CALSCALE:GREGORIAN
BEGIN:VEVENT
DTSTAMP:20260425T012504Z
UID:d1234e81-0d1f-4c2b-83e2-d947c2570e33
DTSTART;VALUE=DATE:20260226
DESCRIPTION:Property ID# 602970\, Locatoin: Harcourts\, 381 Great South Rd\
 , Ellerslie\, Auckland\, Time: 3:00PM
SUMMARY:Auction for 54 O'Brien Road
END:VEVENT
END:VCALENDAR
