BEGIN:VCALENDAR
VERSION:2.0
PRODID:icalendar-ruby
CALSCALE:GREGORIAN
BEGIN:VEVENT
DTSTAMP:20260419T180602Z
UID:7ba63639-45d3-424c-ba41-cbeef892e3b5
DTSTART;VALUE=DATE:20260227
DESCRIPTION:Property ID# 603141\, Time: 6:30PM
SUMMARY:Auction for 
END:VEVENT
END:VCALENDAR
