BEGIN:VCALENDAR
VERSION:2.0
PRODID:icalendar-ruby
CALSCALE:GREGORIAN
BEGIN:VEVENT
DTSTAMP:20260421T134033Z
UID:ce5bf96d-908e-4d19-bd23-941b13463c2c
DTSTART;VALUE=DATE:20260513
DESCRIPTION:Property ID# 606808\, Locatoin: In Rooms at Ray White Manukau O
 ffice\, Time: 12:00PM
SUMMARY:Auction for 37 Chieftain Rise
END:VEVENT
END:VCALENDAR
