BEGIN:VCALENDAR
VERSION:2.0
PRODID:icalendar-ruby
CALSCALE:GREGORIAN
BEGIN:VEVENT
DTSTAMP:20260419T180536Z
UID:8b489a67-da7f-4f8d-a480-c54e328fde4a
DTSTART;TZID=Pacific/Auckland:20260418T140000
DTEND;TZID=Pacific/Auckland:20260418T143000
DESCRIPTION:Property ID# 598376
SUMMARY:Openhome for 4/6 South Pacific Place
END:VEVENT
END:VCALENDAR
